BEGIN:VCALENDAR
VERSION:2.0
PRODID:icalendar-ruby
CALSCALE:GREGORIAN
METHOD:PUBLISH
BEGIN:VEVENT
DTSTAMP:20260423T083543Z
UID:18-492225@kinzachurch.com
DTSTART:20261105T000000Z
DTEND:20261105T010000Z
CLASS:PUBLIC
CREATED:20260422T221317
DESCRIPTION:
LAST-MODIFIED:20260422T221317
LOCATION:
SUMMARY:Youth Group
URL;VALUE=URI:https://www.kinzachurch.com/events/youth-group/2026-11-04
END:VEVENT
END:VCALENDAR
