BEGIN:VCALENDAR
VERSION:2.0
PRODID:icalendar-ruby
CALSCALE:GREGORIAN
METHOD:PUBLISH
BEGIN:VEVENT
DTSTAMP:20260423T054725Z
UID:18-492223@kinzachurch.com
DTSTART:20261021T230000Z
DTEND:20261022T000000Z
CLASS:PUBLIC
CREATED:20260422T221317
DESCRIPTION:
LAST-MODIFIED:20260422T221317
LOCATION:
SUMMARY:Youth Group
URL;VALUE=URI:https://www.kinzachurch.com/events/youth-group/2026-10-21
END:VEVENT
END:VCALENDAR
