BEGIN:VCALENDAR
VERSION:2.0
PRODID:icalendar-ruby
CALSCALE:GREGORIAN
METHOD:PUBLISH
BEGIN:VEVENT
DTSTAMP:20260423T040102Z
UID:18-492222@kinzachurch.com
DTSTART:20261014T230000Z
DTEND:20261015T000000Z
CLASS:PUBLIC
CREATED:20260422T221317
DESCRIPTION:
LAST-MODIFIED:20260422T221317
LOCATION:
SUMMARY:Youth Group
URL;VALUE=URI:https://www.kinzachurch.com/events/youth-group/2026-10-14
END:VEVENT
END:VCALENDAR
