BEGIN:VCALENDAR
VERSION:2.0
PRODID:icalendar-ruby
CALSCALE:GREGORIAN
METHOD:PUBLISH
BEGIN:VEVENT
DTSTAMP:20260423T001324Z
UID:18-491856@kinzachurch.com
DTSTART:20260930T230000Z
DTEND:20261001T000000Z
CLASS:PUBLIC
CREATED:20260422T192008
DESCRIPTION:
LAST-MODIFIED:20260422T192008
LOCATION:
SUMMARY:Youth Group
URL;VALUE=URI:https://www.kinzachurch.com/events/youth-group/2026-09-30
END:VEVENT
END:VCALENDAR
