BEGIN:VCALENDAR
VERSION:2.0
PRODID:icalendar-ruby
CALSCALE:GREGORIAN
METHOD:PUBLISH
BEGIN:VEVENT
DTSTAMP:20260422T211936Z
UID:18-491490@kinzachurch.com
DTSTART:20260916T230000Z
DTEND:20260917T000000Z
CLASS:PUBLIC
CREATED:20260422T162733
DESCRIPTION:
LAST-MODIFIED:20260422T162733
LOCATION:
SUMMARY:Youth Group
URL;VALUE=URI:https://www.kinzachurch.com/events/youth-group/2026-09-16
END:VEVENT
END:VCALENDAR
