BEGIN:VCALENDAR
VERSION:2.0
PRODID:icalendar-ruby
CALSCALE:GREGORIAN
METHOD:PUBLISH
BEGIN:VEVENT
DTSTAMP:20260423T075955Z
UID:5-492064@kinzachurch.com
DTSTART:20261101T150000Z
DTEND:20261101T160000Z
CLASS:PUBLIC
CREATED:20260422T221317
DESCRIPTION:Sunday Worship
LAST-MODIFIED:20260422T221317
LOCATION:
SUMMARY:Sunday Worship
URL;VALUE=URI:https://www.kinzachurch.com/events/sunday-worship/2026-11-01
END:VEVENT
END:VCALENDAR
