BEGIN:VCALENDAR
VERSION:2.0
PRODID:icalendar-ruby
CALSCALE:GREGORIAN
METHOD:PUBLISH
BEGIN:VEVENT
DTSTAMP:20260423T062732Z
UID:5-492063@kinzachurch.com
DTSTART:20261025T140000Z
DTEND:20261025T150000Z
CLASS:PUBLIC
CREATED:20260422T221317
DESCRIPTION:Sunday Worship
LAST-MODIFIED:20260422T221317
LOCATION:
SUMMARY:Sunday Worship
URL;VALUE=URI:https://www.kinzachurch.com/events/sunday-worship/2026-10-25
END:VEVENT
END:VCALENDAR
