BEGIN:VCALENDAR
VERSION:2.0
PRODID:icalendar-ruby
CALSCALE:GREGORIAN
METHOD:PUBLISH
BEGIN:VEVENT
DTSTAMP:20260423T034045Z
UID:5-492061@kinzachurch.com
DTSTART:20261011T140000Z
DTEND:20261011T150000Z
CLASS:PUBLIC
CREATED:20260422T221317
DESCRIPTION:Sunday Worship
LAST-MODIFIED:20260422T221317
LOCATION:
SUMMARY:Sunday Worship
URL;VALUE=URI:https://www.kinzachurch.com/events/sunday-worship/2026-10-11
END:VEVENT
END:VCALENDAR
