BEGIN:VCALENDAR
VERSION:2.0
PRODID:icalendar-ruby
CALSCALE:GREGORIAN
METHOD:PUBLISH
BEGIN:VEVENT
DTSTAMP:20260423T015745Z
UID:5-491696@kinzachurch.com
DTSTART:20261004T140000Z
DTEND:20261004T150000Z
CLASS:PUBLIC
CREATED:20260422T192007
DESCRIPTION:Sunday Worship
LAST-MODIFIED:20260422T192007
LOCATION:
SUMMARY:Sunday Worship
URL;VALUE=URI:https://www.kinzachurch.com/events/sunday-worship/2026-10-04
END:VEVENT
END:VCALENDAR
