BEGIN:VCALENDAR
VERSION:2.0
PRODID:icalendar-ruby
CALSCALE:GREGORIAN
METHOD:PUBLISH
BEGIN:VEVENT
DTSTAMP:20260422T224711Z
UID:5-491330@kinzachurch.com
DTSTART:20260920T140000Z
DTEND:20260920T150000Z
CLASS:PUBLIC
CREATED:20260422T162732
DESCRIPTION:Sunday Worship
LAST-MODIFIED:20260422T162732
LOCATION:
SUMMARY:Sunday Worship
URL;VALUE=URI:https://www.kinzachurch.com/events/sunday-worship/2026-09-20
END:VEVENT
END:VCALENDAR
